BEGIN:VCALENDAR
VERSION:2.0
PRODID:Events Booking
BEGIN:VEVENT
UID:69e4e7d1ddeb7
SUMMARY: Regelmäßiger offener Austausch für Jugendliche und junge Erwach
 sene (10)
DESCRIPTION:Regelmäßiger offener Austausch für Jugendliche und junge Erw
 achsene
 
DTSTART:20250806T190000Z
DTEND:20250806T210000Z
DTSTAMP:20241230T150530Z
ORGANIZER;CN=Deutsche Ehlers Danlos Initiative e.V.:MAILTO:ohhellosven@gmai
 l.com
END:VEVENT
END:VCALENDAR