BEGIN:VCALENDAR
VERSION:2.0
PRODID:Events Booking
BEGIN:VEVENT
UID:69e4e770b722d
SUMMARY: Regelmäßiger offener Austausch für Jugendliche und junge Erwach
 sene (12)
DESCRIPTION:Regelmäßiger offener Austausch für Jugendliche und junge Erw
 achsene
 
DTSTART:20251203T190000Z
DTEND:20251203T210000Z
DTSTAMP:20241230T150530Z
ORGANIZER;CN=Deutsche Ehlers Danlos Initiative e.V.:MAILTO:ohhellosven@gmai
 l.com
END:VEVENT
END:VCALENDAR