BEGIN:VCALENDAR
VERSION:2.0
PRODID:Events Booking
BEGIN:VEVENT
UID:69e763f5bc687
SUMMARY: Regelmäßiger offener Austausch für Jugendliche und junge Erwach
 sene (2)
DESCRIPTION:Regelmäßiger offener Austausch für Jugendliche und junge Erw
 achsene
 
DTSTART:20250301T160000Z
DTEND:20250301T180000Z
DTSTAMP:20241230T150530Z
ORGANIZER;CN=Deutsche Ehlers Danlos Initiative e.V.:MAILTO:ohhellosven@gmai
 l.com
END:VEVENT
END:VCALENDAR