BEGIN:VCALENDAR
VERSION:2.0
PRODID:Events Booking
BEGIN:VEVENT
UID:69e4e770f3542
SUMMARY: Regelmäßiger offener Austausch für Jugendliche und junge Erwach
 sene (4)
DESCRIPTION:Regelmäßiger offener Austausch für Jugendliche und junge Erw
 achsene
 
DTSTART:20250705T160000Z
DTEND:20250705T180000Z
DTSTAMP:20241230T150530Z
ORGANIZER;CN=Deutsche Ehlers Danlos Initiative e.V.:MAILTO:ohhellosven@gmai
 l.com
END:VEVENT
END:VCALENDAR