BEGIN:VCALENDAR
VERSION:2.0
PRODID:Events Booking
BEGIN:VEVENT
UID:69e4e7d230364
SUMMARY: Regelmäßiger offener Austausch für Jugendliche und junge Erwach
 sene (6)
DESCRIPTION:Regelmäßiger offener Austausch für Jugendliche und junge Erw
 achsene
 
DTSTART:20251101T160000Z
DTEND:20251101T180000Z
DTSTAMP:20241230T150530Z
ORGANIZER;CN=Deutsche Ehlers Danlos Initiative e.V.:MAILTO:ohhellosven@gmai
 l.com
END:VEVENT
END:VCALENDAR