BEGIN:VCALENDAR
VERSION:2.0
PRODID:Events Booking
BEGIN:VEVENT
UID:69e4c15bad7e8
SUMMARY:Einladung zum Angehörigen Wochenende der Deutsche Ehlers-Danlos-In
 itiative e.V. (2)
DESCRIPTION:Liebe Angehörige\, Betroffene\, Freunde\, Begleitpersonen\,wir
  laden Sie herzlich zu einem Wochenende speziell für Angehörige und Betr
 offene ein. Währenddieser Veranstaltung steht nicht die Erkrankung im Vor
 dergrund sondern die Herausforderungen undbesonderen Anforderungen im Allt
 ag und dem Zusammenleben.
 Das Wochenende wird von speziell geschulten Tr
 ainer/Innen  vom KompetenznetzwerkPatientenschulung begleitet\, Frau Kath
 arina Hagemeister und Frau Anke Kretzschmar.
 Voraussetzung für eine Tei
 lnahme ist ein Mindestalter von 22 Jahren und Angehörige die miteinem Bet
 roffenen in einer Beziehung\, egal in welcher\, zueinander stehen.
 Das W
 ochenende findet im Hotel Esperanto in Fulda von Freitag 14.03.2025 bis So
 nntag den16.03.2025 statt.
 Der Eigenanteil für Seminar\, Übernachtung 
 und Vollverpflegung ist pro Person:Für Mitglieder 80 EuroFür Nichtmitgli
 eder 140 Euro
LOCATION:Esperantopl. 1 
DTSTART:20250314T000000Z
DTEND:20250316T000000Z
DTSTAMP:20250123T113302Z
ORGANIZER;CN=Deutsche Ehlers Danlos Initiative e.V.:MAILTO:ohhellosven@gmai
 l.com
GEO:50.557741;9.68622
X-APPLE-STRUCTURED-LOCATION;VALUE=URI;X-ADDRESS=Esperantopl. 1 ;X-APPLE-RAD
 IUS=72;X-TITLE=Hotel Esperanto:50.557741;9.68622
END:VEVENT
END:VCALENDAR