BEGIN:VCALENDAR
VERSION:2.0
PRODID:Events Booking
BEGIN:VEVENT
UID:69e4d41c58881
SUMMARY:Online Jugendtreffen ( für Jugendliche und junge Erwachsene\, ca 1
 4-27Jahre)
DESCRIPTION:
DTSTART:20241207T190000Z
DTEND:20241207T000000Z
DTSTAMP:20241203T000215Z
ORGANIZER;CN=Deutsche Ehlers Danlos Initiative e.V.:MAILTO:ohhellosven@gmai
 l.com
END:VEVENT
END:VCALENDAR