BEGIN:VCALENDAR
VERSION:2.0
PRODID:Events Booking
BEGIN:VEVENT
UID:69e73a165570b
SUMMARY:Online Treffen   Berlin und Brandenburg     
DESCRIPTION:
DTSTART:20241203T183000Z
DTEND:20241203T203000Z
DTSTAMP:20241203T000009Z
ORGANIZER;CN=Deutsche Ehlers Danlos Initiative e.V.:MAILTO:ohhellosven@gmai
 l.com
END:VEVENT
END:VCALENDAR