BEGIN:VCALENDAR
VERSION:2.0
PRODID:Events Booking
BEGIN:VEVENT
UID:69e4d37512f47
SUMMARY:Online-Treffen der Nord-Regionen ( HH\,HB\,SH\,MVo\,NDS
DESCRIPTION:Eine Anmeldung ist nicht erforderlich.
 Beitreten Zoom Meeting
 :
 https://us02web.zoom.us/j/82499435671?pwd=MkRjN0tFQ25RRVpxL05MMVhWRjI1
 Zz09 
 Meeting-ID: 824 9943 5671Kenncode: 259061 - 
 
DTSTART:20241129T000000Z
DTEND:20241129T000000Z
DTSTAMP:20241126T100728Z
ORGANIZER;CN=Deutsche Ehlers Danlos Initiative e.V.:MAILTO:ohhellosven@gmai
 l.com
END:VEVENT
END:VCALENDAR