BEGIN:VCALENDAR
VERSION:2.0
PRODID:Events Booking
BEGIN:VEVENT
UID:69e75e69730b2
SUMMARY:Online-Treffen für Berliner*innen und Brandenburger*innen
DESCRIPTION:Online-Treffen für Berliner*innen
DTSTART:20250401T183000Z
DTEND:20250401T203000Z
DTSTAMP:20241230T160434Z
ORGANIZER;CN=Deutsche Ehlers Danlos Initiative e.V.:MAILTO:ohhellosven@gmai
 l.com
END:VEVENT
END:VCALENDAR