BEGIN:VCALENDAR
VERSION:2.0
PRODID:Events Booking
BEGIN:VEVENT
UID:69e4f971f39cf
SUMMARY:Online-Treffen für die Nord-Regionen
DESCRIPTION:Online Treffen für die Nord-Regionen (HH\, HB\, SH)
 aktuelle
  Informationen und Gelegenheit zum Austausch
DTSTART:20251227T100000Z
DTEND:20251227T130000Z
DTSTAMP:20241230T165140Z
ORGANIZER;CN=Deutsche Ehlers Danlos Initiative e.V.:MAILTO:ohhellosven@gmai
 l.com
END:VEVENT
END:VCALENDAR