BEGIN:VCALENDAR
VERSION:2.0
PRODID:Events Booking
BEGIN:VEVENT
UID:69e4e8a498875
SUMMARY:Online-Treffen für die Nord-Regionen
DESCRIPTION:Online Treffen für die Nord-Regionen (HH\, HB\, SH)
 aktuelle
  Informationen und Gelegenheit zum Austausch
DTSTART:20250531T100000Z
DTEND:20250531T130000Z
DTSTAMP:20241230T165140Z
ORGANIZER;CN=Deutsche Ehlers Danlos Initiative e.V.:MAILTO:ohhellosven@gmai
 l.com
END:VEVENT
END:VCALENDAR