BEGIN:VCALENDAR
VERSION:2.0
PRODID:Events Booking
BEGIN:VEVENT
UID:69e73717eb3bd
SUMMARY:Online Treffen für die Nord-Regionen (HH\, HB\, SH\, MVo) & Nieder
 sachsen
DESCRIPTION:aktuelle Informationen und Gelegenheit zum Austausch
   
 B
 eitreten Zoom Meeting
 https://us02web.zoom.us/j/82499435671?pwd=MkRjN0tF
 Q25RRVpxL05MMVhWRjI1Zz09 
  
 Meeting-ID: 824 9943 5671
 Kenncode: 25
 9061
DTSTART:20241123T100000Z
DTEND:20241123T130000Z
DTSTAMP:20241111T124731Z
ORGANIZER;CN=Deutsche Ehlers Danlos Initiative e.V.:MAILTO:ohhellosven@gmai
 l.com
END:VEVENT
END:VCALENDAR