BEGIN:VCALENDAR
VERSION:2.0
PRODID:Events Booking
BEGIN:VEVENT
UID:69e4eaa6af5b7
SUMMARY:Online-Treffen für Hessen\, RLP und Saarland
DESCRIPTION:monatliches Onlinetreffen zum Austausch und für die neuesten I
 nformationen
DTSTART:20250730T190000Z
DTEND:20250730T210000Z
DTSTAMP:20250102T111806Z
ORGANIZER;CN=Deutsche Ehlers Danlos Initiative e.V.:MAILTO:ohhellosven@gmai
 l.com
END:VEVENT
END:VCALENDAR