BEGIN:VCALENDAR
VERSION:2.0
PRODID:Events Booking
BEGIN:VEVENT
UID:69e764fb55ce8
SUMMARY:Online-Treffen für Mecklenburg-Vorpommern (2)
DESCRIPTION:Thema: Schmerztherapie
 allgemeiner Austausch
DTSTART:20250212T190000Z
DTEND:20250212T210000Z
DTSTAMP:20250102T105750Z
ORGANIZER;CN=Deutsche Ehlers Danlos Initiative e.V.:MAILTO:ohhellosven@gmai
 l.com
END:VEVENT
END:VCALENDAR