BEGIN:VCALENDAR
VERSION:2.0
PRODID:Events Booking
BEGIN:VEVENT
UID:69e763714ebef
SUMMARY:Online-Treffen für Mecklenburg-Vorpommern (3)
DESCRIPTION:Informationen der Landesleiterin und Beraterin für MV
 allgem
 einer Austausch
DTSTART:20250312T183000Z
DTEND:20250312T203000Z
DTSTAMP:20250102T105750Z
ORGANIZER;CN=Deutsche Ehlers Danlos Initiative e.V.:MAILTO:ohhellosven@gmai
 l.com
END:VEVENT
END:VCALENDAR