BEGIN:VCALENDAR
VERSION:2.0
PRODID:Events Booking
BEGIN:VEVENT
UID:69e4e82c5f557
SUMMARY:Online-Treffen für Mecklenburg-Vorpommern
DESCRIPTION:Kennenlernen der Landesleiterin und Beraterin für MV
 allgeme
 iner Austausch
DTSTART:20250108T183000Z
DTEND:20250108T203000Z
DTSTAMP:20250102T105750Z
ORGANIZER;CN=Deutsche Ehlers Danlos Initiative e.V.:MAILTO:ohhellosven@gmai
 l.com
END:VEVENT
END:VCALENDAR