BEGIN:VCALENDAR
VERSION:2.0
PRODID:Events Booking
BEGIN:VEVENT
UID:69e9d96568a33
SUMMARY:Online-Treffen für Niedersachsen
DESCRIPTION:Kennenlernen der neuen Landesleitung und offener Austausch
DTSTART:20250328T190000Z
DTEND:20250328T210000Z
DTSTAMP:20250102T112256Z
ORGANIZER;CN=Deutsche Ehlers Danlos Initiative e.V.:MAILTO:ohhellosven@gmai
 l.com
END:VEVENT
END:VCALENDAR