BEGIN:VCALENDAR
VERSION:2.0
PRODID:Events Booking
BEGIN:VEVENT
UID:69e4e77c5d267
SUMMARY:Online Treffen Hessen/Rheinland-Pfalz/Saarland
DESCRIPTION:Wir freuen uns über eine rege Teilnahme\, jeder ist willkommen
 \, eine Anmeldung ist nicht erforderlich.
 Zeit: 19:00 – 21:00 Uhr. 
 
 Beitreten Zoom Meeting
 https://us02web.zoom.us/j/82605923646?pwd=M0dnQzd
 lV2ovSDJYSnJJMDZHMktTUT09  
 Meeting-ID: 826 0592 3646
 Kenncode: 1610
 20
DTSTART:20241218T190000Z
DTEND:20241218T210000Z
DTSTAMP:20241126T101100Z
ORGANIZER;CN=Deutsche Ehlers Danlos Initiative e.V.:MAILTO:ohhellosven@gmai
 l.com
END:VEVENT
END:VCALENDAR