BEGIN:VCALENDAR
VERSION:2.0
PRODID:Events Booking
BEGIN:VEVENT
UID:69e7518cd78e7
SUMMARY:Online Treffen Landesverband Baden-Württemberg & Bayern
DESCRIPTION:Informationen und Austausch
DTSTART:20250515T190000Z
DTEND:20250515T210000Z
DTSTAMP:20250102T110925Z
ORGANIZER;CN=Deutsche Ehlers Danlos Initiative e.V.:MAILTO:ohhellosven@gmai
 l.com
END:VEVENT
END:VCALENDAR