BEGIN:VCALENDAR
VERSION:2.0
PRODID:Events Booking
BEGIN:VEVENT
UID:69e763e5dad08
SUMMARY:Online Treffen Landesverband Baden-Württemberg & Bayern
DESCRIPTION:Informationen und Austausch
DTSTART:20250320T190000Z
DTEND:20250320T210000Z
DTSTAMP:20250102T110925Z
ORGANIZER;CN=Deutsche Ehlers Danlos Initiative e.V.:MAILTO:ohhellosven@gmai
 l.com
END:VEVENT
END:VCALENDAR