BEGIN:VCALENDAR
VERSION:2.0
PRODID:Events Booking
BEGIN:VEVENT
UID:69e4e8de2a464
SUMMARY:Online Treffen Landesverband Baden-Württemberg & Bayern
DESCRIPTION:Informationen und Austausch
DTSTART:20251120T190000Z
DTEND:20251120T210000Z
DTSTAMP:20250102T110925Z
ORGANIZER;CN=Deutsche Ehlers Danlos Initiative e.V.:MAILTO:ohhellosven@gmai
 l.com
END:VEVENT
END:VCALENDAR