BEGIN:VCALENDAR
VERSION:2.0
PRODID:Events Booking
BEGIN:VEVENT
UID:69e785bf92065
SUMMARY:Online Treffen Landesverband Baden-Württemberg & Bayern
DESCRIPTION:Online Treffen für Informationen und Austausch
  
 
DTSTART:20241119T190000Z
DTEND:20241119T210000Z
DTSTAMP:20241111T123044Z
ORGANIZER;CN=Deutsche Ehlers Danlos Initiative e.V.:MAILTO:ohhellosven@gmai
 l.com
END:VEVENT
END:VCALENDAR