BEGIN:VCALENDAR
VERSION:2.0
PRODID:Events Booking
BEGIN:VEVENT
UID:69e7631640d82
SUMMARY:Online Treffen Landesverband Bayern und Baden-Württemberg   (2)
DESCRIPTION:
DTSTART:20250218T190000Z
DTEND:20250218T210000Z
DTSTAMP:20241203T000320Z
ORGANIZER;CN=Deutsche Ehlers Danlos Initiative e.V.:MAILTO:ohhellosven@gmai
 l.com
END:VEVENT
END:VCALENDAR