BEGIN:VCALENDAR
VERSION:2.0
PRODID:Events Booking
BEGIN:VEVENT
UID:69e4d22a79834
SUMMARY:Online Treffen Landesverband Bayern und Baden-Württemberg  
DESCRIPTION:
DTSTART:20241212T190000Z
DTEND:20241212T210000Z
DTSTAMP:20241203T000320Z
ORGANIZER;CN=Deutsche Ehlers Danlos Initiative e.V.:MAILTO:ohhellosven@gmai
 l.com
END:VEVENT
END:VCALENDAR