BEGIN:VCALENDAR
VERSION:2.0
PRODID:Events Booking
BEGIN:VEVENT
UID:69e4d32bb74c4
SUMMARY:Online Treffen Landesverband NRW /RLP/SL
DESCRIPTION:
DTSTART:20241205T190000Z
DTEND:20241205T210000Z
DTSTAMP:20241203T000124Z
ORGANIZER;CN=Deutsche Ehlers Danlos Initiative e.V.:MAILTO:ohhellosven@gmai
 l.com
END:VEVENT
END:VCALENDAR