BEGIN:VCALENDAR
VERSION:2.0
PRODID:Events Booking
BEGIN:VEVENT
UID:69e4d2d411343
SUMMARY:Online Treffen Nord Regionen
DESCRIPTION:
DTSTART:20241214T100000Z
DTEND:20241214T120000Z
DTSTAMP:20241203T153237Z
ORGANIZER;CN=Deutsche Ehlers Danlos Initiative e.V.:MAILTO:ohhellosven@gmai
 l.com
END:VEVENT
END:VCALENDAR