BEGIN:VCALENDAR
VERSION:2.0
PRODID:Events Booking
BEGIN:VEVENT
UID:69e4d2402e47b
SUMMARY:Online Treffen Region Rheinland-Pfalz\, Saarland und Hessen
DESCRIPTION:Aktuelle Informationen und Gelegenheit zum Austausch
  
 Bei
 treten Zoom Meeting
 https://us02web.zoom.us/j/85430789407?pwd=aW1jUmdlND
 FaVEZjU1QxbUFOZlBhZz09 
  
 Meeting-ID: 854 3078 9407
 Kenncode: 6646
 20
DTSTART:20241121T190000Z
DTEND:20241121T210000Z
DTSTAMP:20241111T124649Z
ORGANIZER;CN=Deutsche Ehlers Danlos Initiative e.V.:MAILTO:ohhellosven@gmai
 l.com
END:VEVENT
END:VCALENDAR