BEGIN:VCALENDAR
VERSION:2.0
PRODID:Events Booking
BEGIN:VEVENT
UID:69e4d34bab7ec
SUMMARY:Online Treffen Region Sachsen\, Sachsen Anhalt\, Thüringen
DESCRIPTION:
DTSTART:20241125T190000Z
DTEND:20241125T210000Z
DTSTAMP:20241121T042550Z
ORGANIZER;CN=Deutsche Ehlers Danlos Initiative e.V.:MAILTO:ohhellosven@gmai
 l.com
END:VEVENT
END:VCALENDAR