BEGIN:VCALENDAR
VERSION:2.0
PRODID:Events Booking
BEGIN:VEVENT
UID:69e4f8fba4ae5
SUMMARY:Online Workshop: Social Media und chronische Erkrankungen
DESCRIPTION:
DTSTART:20250111T160000Z
DTEND:20250111T190000Z
DTSTAMP:20250103T115527Z
ORGANIZER;CN=Deutsche Ehlers Danlos Initiative e.V.:MAILTO:ohhellosven@gmai
 l.com
END:VEVENT
END:VCALENDAR