BEGIN:VCALENDAR
VERSION:2.0
PRODID:Events Booking
BEGIN:VEVENT
UID:69e4f9a68105f
SUMMARY:Online Workshop: Gelungene Kommunikation im Alltag mit chronischen 
 Erkrankungen
DESCRIPTION:
DTSTART:20250118T160000Z
DTEND:20250118T190000Z
DTSTAMP:20250103T115527Z
ORGANIZER;CN=Deutsche Ehlers Danlos Initiative e.V.:MAILTO:ohhellosven@gmai
 l.com
END:VEVENT
END:VCALENDAR