BEGIN:VCALENDAR
VERSION:2.0
PRODID:Events Booking
BEGIN:VEVENT
UID:69e75fc996c2a
SUMMARY:Online Workshop: Krankheitsbewältigung
DESCRIPTION:
DTSTART:20250322T160000Z
DTEND:20250322T190000Z
DTSTAMP:20250103T115527Z
ORGANIZER;CN=Deutsche Ehlers Danlos Initiative e.V.:MAILTO:ohhellosven@gmai
 l.com
END:VEVENT
END:VCALENDAR